BEGIN:VCALENDAR
VERSION:2.0
PRODID:-//Thirsty Beaver - ECPv5.12.3//NONSGML v1.0//EN
CALSCALE:GREGORIAN
METHOD:PUBLISH
X-WR-CALNAME:Thirsty Beaver
X-ORIGINAL-URL:https://www.thirstybeaver.freedomwave.biz
X-WR-CALDESC:Events for Thirsty Beaver
REFRESH-INTERVAL;VALUE=DURATION:PT1H
X-Robots-Tag:noindex
X-PUBLISHED-TTL:PT1H
BEGIN:VTIMEZONE
TZID:UTC
BEGIN:STANDARD
TZOFFSETFROM:+0000
TZOFFSETTO:+0000
TZNAME:UTC
DTSTART:20210101T000000
END:STANDARD
END:VTIMEZONE
BEGIN:VEVENT
DTSTART;TZID=UTC:20211225T190000
DTEND;TZID=UTC:20211226T003000
DTSTAMP:20260419T191411
CREATED:20211128T072623Z
LAST-MODIFIED:20211128T072623Z
UID:366-1640458800-1640478600@www.thirstybeaver.freedomwave.biz
SUMMARY:X-Mas Musical Night (Test listing)
DESCRIPTION:Testing description
URL:https://www.thirstybeaver.freedomwave.biz/event/x-mas-musical-night-test-listing/
LOCATION:Double D’s Thirsty Beaver\, 500 Madison St. Beaver Dam\, WI 53916\, Beaver Dam\, WI\, 53916\, United States
CATEGORIES:Live Music Event
ATTACH;FMTTYPE=image/png:https://www.thirstybeaver.freedomwave.biz/wp-content/uploads/2021/11/pizzeria_60.png
ORGANIZER;CN="Double%20D%27s%20Thirsty%20Beaver":MAILTO:thirstybeaver500@gmail.com
END:VEVENT
BEGIN:VEVENT
DTSTART;TZID=UTC:20211030T070000
DTEND;TZID=UTC:20211030T230000
DTSTAMP:20260419T191411
CREATED:20211128T072028Z
LAST-MODIFIED:20211128T072028Z
UID:364-1635577200-1635634800@www.thirstybeaver.freedomwave.biz
SUMMARY:Halloween Bash w/ Benign Addiction!
DESCRIPTION:Event details:
URL:https://www.thirstybeaver.freedomwave.biz/event/halloween-bash-w-benign-addiction/
LOCATION:Double D’s Thirsty Beaver\, 500 Madison St. Beaver Dam\, WI 53916\, Beaver Dam\, WI\, 53916\, United States
CATEGORIES:Live Music Event
ATTACH;FMTTYPE=image/jpeg:https://www.thirstybeaver.freedomwave.biz/wp-content/uploads/2021/11/band2.jpg
ORGANIZER;CN="Double%20D%27s%20Thirsty%20Beaver":MAILTO:thirstybeaver500@gmail.com
END:VEVENT
BEGIN:VEVENT
DTSTART;TZID=UTC:20211001T070000
DTEND;TZID=UTC:20211001T230000
DTSTAMP:20260419T191411
CREATED:20211128T071718Z
LAST-MODIFIED:20211128T071718Z
UID:362-1633071600-1633129200@www.thirstybeaver.freedomwave.biz
SUMMARY:Dawn Marie
DESCRIPTION:Friday\, October 1\, 2021\n7:00 PM  11:00 PM\n500 Madison St.500 Madison Street Beaver Dam\, WI 53916USA (map)
URL:https://www.thirstybeaver.freedomwave.biz/event/dawn-marie/
LOCATION:Double D’s Thirsty Beaver\, 500 Madison St. Beaver Dam\, WI 53916\, Beaver Dam\, WI\, 53916\, United States
CATEGORIES:Live Music Event
ATTACH;FMTTYPE=image/jpeg:https://www.thirstybeaver.freedomwave.biz/wp-content/uploads/2021/11/img-Thirsty_Beaver_11.jpg
ORGANIZER;CN="Double%20D%27s%20Thirsty%20Beaver":MAILTO:thirstybeaver500@gmail.com
END:VEVENT
END:VCALENDAR